BEGIN:VCALENDAR
VERSION:2.0
PRODID:-//CSO Italy Centro Servizi Ortofrutticoli - ECPv6.0.10//NONSGML v1.0//EN
CALSCALE:GREGORIAN
METHOD:PUBLISH
X-WR-CALNAME:CSO Italy Centro Servizi Ortofrutticoli
X-ORIGINAL-URL:https://www.csoservizi.com
X-WR-CALDESC:Eventi per CSO Italy Centro Servizi Ortofrutticoli
REFRESH-INTERVAL;VALUE=DURATION:PT1H
X-Robots-Tag:noindex
X-PUBLISHED-TTL:PT1H
BEGIN:VTIMEZONE
TZID:Europe/Rome
BEGIN:DAYLIGHT
TZOFFSETFROM:+0100
TZOFFSETTO:+0200
TZNAME:CEST
DTSTART:20190331T010000
END:DAYLIGHT
BEGIN:STANDARD
TZOFFSETFROM:+0200
TZOFFSETTO:+0100
TZNAME:CET
DTSTART:20191027T010000
END:STANDARD
END:VTIMEZONE
BEGIN:VEVENT
DTSTART;TZID=Europe/Rome:20191128T093000
DTEND;TZID=Europe/Rome:20191130T130000
DTSTAMP:20260423T164553
CREATED:20191119T161744Z
LAST-MODIFIED:20191120T092255Z
UID:10480-1574933400-1575118800@www.csoservizi.com
SUMMARY:World Pear Forum
DESCRIPTION:Giovedì 28 Novembre\nUna pericoltura diversa è possibile. Confronto tra l’esperienza italiana e australiana\n■ 10.00 – Idee e suggerimenti su come riorganizzare l’assetto varietale della nostra realtà frutticola / Relazione a cura dell’Ufficio tecnico sperimentale della Fondazione Navarra. \n■ 10.40 – La frutticoltura in Australia / Marcel Veens – Horticultural adviser – Australia \n■ 11.20 – Sintesi e commento dei due sistemi di produzione \nMODERA: Ivano Valmori\, direttore di Agronotizie \nAnalisi e possibili soluzioni ai danni della maculatura bruna\n\n■ 14.30 – Maculatura bruna del pero: il contributo della ricerca / Marina Collina – Dip. di Scienze e Tecnologie Agro-Alimentari (DISTAL) – Università di Bologna \n■ 14.50 – Tavola Rotonda “Le prove in campo”\nStefano Civolani – Unife e Innovaricerca\nClaudio Cristiani – Consorzio Agrario dell’Emilia\nMichele Preti – Astra \n■ 15.20 – Indirizzi di difesa per la maculatura bruna del pero / Loredana Antoniacci – Servizio Fitosanitario della Regione Emilia-Romagna \n■ 15.40 – Maculatura Bruna: la situazione in Veneto / Gabriele Zecchin – Servizio Fitosanitario della Regione Veneto \n■ 16.00 – Tavola Rotonda – Il punto della situazione in termini di aree coinvolte dalla problematica ed esperienze dirette\nMaurizio Sgobbi – Vivai Mazzoni\nMansueto Andrea Rimondi – AFE\nMaurizio Foschini – Agrintesa\nAndrea Gozza – Consorzio Agrario dell’Emilia\nAleardo Bertazzoni – Consulenza Agronomica OP Corma\nMaurizio Saltari – Fruit Modena Group \nConclusioni / Simona Caselli – Assessore all’Agricoltura\, Caccia e Pesca della Regione Emilia-Romagna \nMODERA: Ivano Valmori\, direttore di Agronotizie\n \nVenerdì 29 Novembre\nLe prospettive commerciali e le nuove opportunità di mercato\n■ 10.00 – La campagna commerciale 2019/2020: le prospettive della stagione / a cura di CSO Italy \n■ 10.15 – Tavola Rotonda: la campagna 2019/2020 vista dai rappresentanti della produzione europea:\nITALIA – Luca Granata – Opera\nBELGIO – Marc Evrard – BFV (Belgian Fruit Valley)\nOLANDA – Wim Rodenburg – GroentenFruit Huis\nFRANCIA – Vincent Guerin – ANPP\nSPAGNA – Joan Serentill Rubio – Fepex/Afrucat \n■ 10.45 – Le pere italiane: come vengono percepite dal consumatore? / a cura di UniTO e CSO Italy \n■ 11.00 – Nella pera 24/7 free-radicals scavengers / Maria Gabriella Marchetti – Università degli Studi di Ferrara \n■ 11.15 – Le sfide e le opportunità dei mercati Terzi con aggiornamenti sulla Cina / a cura di CSO Italy \n■ 11.30 – L’esperienza diretta sui negoziati Italia-Cina / Enrico Berti – Ambasciata italiana a Pechino \n■ 12.00 – Tavola rotonda: la parola agli operatori\nMarco Salvi – Presidente Fruit Imprese\nPiergiorgio Lenzarini – Presidente del Consorzio della Pera dell’Emilia Romagna IGP\nIlenio Bastoni – Direttore generale di Apofruit\nLuigi Mazzoni – Amministratore Delegato Vivai Mazzoni \nMODERA: Rossella Gigli\, caporedattrice Freshplaza \nSabato 30 Novembre\nCome affrontare le nuove sfide: l’esempio della cimice asiatica\n■ 10.00 – Le ultime tendenze della pericoltura italiana / a cura di CSO Italy \n10.20 – La cimice asiatica: a che punto siamo?\n■ 10.20 – Biologia e diffusione della cimice Asiatica in Europa / Lara Maistrello – Dipartimento di Scienze della Vita – Unimore \n■ 10.40 – Cimice asiatica: esperienza e gestione territoriale in Emilia – Romagna / Luca Casoli – Consorzio Fitosanitario di Modena e Reggio Emilia \n■ 11.00 – Cimice asiatica: esperienze di monitoraggio e difesa in Piemonte / Luciana Tavella – Dipartimento Scienze Agrarie\, Forestali e Alimentari – UniTO \n■ 11.20 – La Cimice Asiatica in Catalogna: la situazione e le attività / Adriana Escudero – IRTA Catalogna – Spagna \n■ 11.40 – Tavola Rotonda\nStefano Cocchi – Agrintesa\nAlbano Bergami – Oi Pera/Op Diamantina\nStefano Boncompagni – Servizio Fitosanitario della Regione Emilia-Romagna\nLorenzo Tosi – Agrea\nGabriele Zecchin – Servizio Fitosanitario Regione Veneto \nMODERA: Giannantonio Armentano\, Informatore Agrario \nScarica la locandina dell’evento\nFuturPera / SALA DECANA/PLENARIA\, PADIGLIONE 2 (ATRIO)\nQUARTIERE FIERISTICO\, via della Fiera\, 11 – Ferrara
URL:https://www.csoservizi.com/event/world-pear-forum/
LOCATION:FuturPera\, via della Fiera\, 11\, Ferrara\, 44124\, Italy
CATEGORIES:Agenda,Eventi
ATTACH;FMTTYPE=image/png:https://www.csoservizi.com/wp-content/uploads/2019/11/FuturPera_World_pear_forum_2019.png
GEO:44.8138432;11.5850865
X-APPLE-STRUCTURED-LOCATION;VALUE=URI;X-ADDRESS=FuturPera via della Fiera 11 Ferrara 44124 Italy;X-APPLE-RADIUS=500;X-TITLE=via della Fiera\, 11:geo:11.5850865,44.8138432
END:VEVENT
END:VCALENDAR