BEGIN:VCALENDAR
VERSION:2.0
PRODID:-//CSO Italy Centro Servizi Ortofrutticoli - ECPv6.0.10//NONSGML v1.0//EN
CALSCALE:GREGORIAN
METHOD:PUBLISH
X-ORIGINAL-URL:https://www.csoservizi.com
X-WR-CALDESC:Eventi per CSO Italy Centro Servizi Ortofrutticoli
REFRESH-INTERVAL;VALUE=DURATION:PT1H
X-Robots-Tag:noindex
X-PUBLISHED-TTL:PT1H
BEGIN:VTIMEZONE
TZID:Europe/Rome
BEGIN:DAYLIGHT
TZOFFSETFROM:+0100
TZOFFSETTO:+0200
TZNAME:CEST
DTSTART:20200329T010000
END:DAYLIGHT
BEGIN:STANDARD
TZOFFSETFROM:+0200
TZOFFSETTO:+0100
TZNAME:CET
DTSTART:20201025T010000
END:STANDARD
END:VTIMEZONE
BEGIN:VEVENT
DTSTART;TZID=Europe/Rome:20200205T080000
DTEND;TZID=Europe/Rome:20200207T170000
DTSTAMP:20260423T213050
CREATED:20200131T113319Z
LAST-MODIFIED:20200131T113421Z
UID:11608-1580889600-1581094800@www.csoservizi.com
SUMMARY:Fruit Logistica 2020 / Calendario degli incontri
DESCRIPTION:Di seguito il fitto programma di incontri che si terrà a Fruit Logistica Berlino nello spazio gestito da CSO Italy e ICE nel padiglione 2.2 stand A07\, dove primeggia la collettiva “Italy – The Beauty of Quality” organizzata da CSO Italy in collaborazione con Fruitimprese e Italia Ortofrutta Unione Nazionale. \nMercoledì 5 febbraio\nOre 11.00\nPresentazione del Progetto di Promozione Europea sul Biologico “Made in Nature” \nOre 12.30\nInaugurazione della collettiva ITALY\nInterventi di:\non. Teresa Bellanova Ministro delle Politiche Agricole\non. Paolo De Castro Europarlamentare\nLuigi Mattiolo Ambasciatore d’Italia a Berlino\nRoberto Luongo Direttore Generale ICE\nDavide Vernocchi Coordinatore Ortofrutta Alleanza Cooperative Agroalimentare\nMarco Salvi Presidente Fruitimprese\nGennaro Velardo Presidente Italia Ortofrutta\nPaolo Bruni Presidente CSO Italy \nOre 15.30\nPresentazione “Analisi dei trend degli imballaggi utilizzati in ortofrutta” a cura dell’Osservatorio sulle confezioni di Ortofrutta promosso da CSO Italy e Consorzio Bestack \nOre 16.30\nPresentazione della Campagna di promozione del Carciofo Romanesco IGP \nOre 17.00\n“Buonitalia incontra l’on. Paolo De Castro: il futuro dell’ortofrutta fra sostenibilità e lotta alle pratiche sleali” a cura di Alegra \nGiovedì 6 febbraio\nOre 10.30\nPresentazione progetti PSR Regione Emilia Romagna su Pera IGP e Pesca e Nettarina di Romagna IGP \nOre 11.30\nL’on. Paolo De Castro Europarlamentare e Felice Assenza Direttore Generale Politiche Internazionali MIPAAF si confrontano con le Rappresentanze Italiane del settore sul tema: “Il futuro della PAC e OCM Ortofrutta a sostegno di redditi e ambiente”. Coordina: Paolo Bruni Presidente CSO Italy \nOre 14.00\nPresentazione della ricerca “Veganesimo\, vegetarianesimo e sostenibilità\, le nuove tendenze nell’alimentazione tedesca” a cura di ICE \nVenerdì 7 febbraio\nOre 9.30\nMeeting IKO\, International Kiwifruit Organization. Scambio di informazioni su produzione\, commercializzazione e problematiche fitosanitarie tra i maggiori Paesi produttori.\n(riservato agli invitati)
URL:https://www.csoservizi.com/event/fruit-logistica-2020-calendario-degli-incontri/
LOCATION:Berlino Fruit logistica\, Messedamm 22\, Berlin\, 14055\, Germany
CATEGORIES:Agenda,Eventi
ATTACH;FMTTYPE=image/jpeg:https://www.csoservizi.com/wp-content/uploads/2020/01/csoitaly_csoservizi_Fruitlogistica_2020_programma_eventi.jpg
GEO:52.5012463;13.2741797
X-APPLE-STRUCTURED-LOCATION;VALUE=URI;X-ADDRESS=Berlino Fruit logistica Messedamm 22 Berlin 14055 Germany;X-APPLE-RADIUS=500;X-TITLE=Messedamm 22:geo:13.2741797,52.5012463
END:VEVENT
END:VCALENDAR